Workbook
Name _1SCH_A_NO_RES: Summary!$A$1:$E$36
Name _2SCHEDULE_A: 'Schedule A'!$A$1:$F$40
Name _3SCHEDULE_A_WS: 'Schedule A'!$A$1:$F$42
Name _4SUMMARY_WS: Summary!$A$1:$E$37
Name CYEX: 'Schedule A'!$E$40
Name DATE: Summary!#REF!
Name EEXP: 'Schedule A'!$C$40
Name FREQ: Summary!$D$35
Name INFL: Reserves!#REF!
Name INFPCT: Reserves!$V$10
Name M_NAME: 'Schedule A'!#REF!
Name M_NUM: 'Schedule A'!#REF!
Name NUN: Summary!$D$34
Name PF: Reserves!$L$9
Name PYEX: 'Schedule A'!$D$40
Name RESERVES: Reserves!$A$1:$M$34
Name RESERVES_M: Reserves!$A$1:$Q$22
Name SUMMARY: Summary!$A$1:$E$37
Name YTDMN: WORKSHEET!$C$9

Sheet Summary
A1: 43830 | E1: SUMMARY
A3: ORCHID COVE CONDOMINIUM ASSN, INC.
A4: 2016 ESTIMATED EXPENSES AND APPROVED BUDGET
A5: PROPOSED BUDGET FOR THE PERIOD
A6: JANUARY 1, 2020 to DECEMBER 31, 2020
D7: RESERVE
D8: =Reserves!L8 -> FUNDING | E8: WAIVED
D9: =PF -> 1 | E9: RESERVES
C10: 2019 | D10: =C10+1 -> 2020 | E10: =C10+1 -> 2020
C11: APPROVED | D11: PROPOSED | E11: PROPOSED
A12: REVENUES | C12: BUDGET | D12: BUDGET | E12: BUDGET
A13: 5010 | B13: MAINTENANCE | C13: 102408 | D13: =D22-D14-D15 -> 112945.24 | E13: =E22-E14-#REF!-E15 -> #REF!
A14: 5030 | B14: APPLICATION FEES | C14: 0 | D14: 0 | E14: 0
A15: 5050 | B15: OTHER INCOME | C15: 0 | D15: 0 | E15: 0
B16: SUBTOTAL | C16: =SUM(C13:C15) -> 102408 | D16: =SUM(D13:D15) -> 112945.24 | E16: =SUM(E13:E15) -> #REF!
B17: RESERVES | C17: 31314 | D17: =Reserves!L21 -> 31957.233 | E17: =Reserves!M21 -> 0
B18: TOTAL | C18: =C16+C17 -> 133722 | D18: =D16+D17 -> 144902.47 | E18: =E16+E17 -> #REF!
A21: EXPENSES AND RESERVES
B22: CURRENT EXPENSES - SCHEDULE A | C22: =+C16 -> 102408 | D22: =CYEX -> 112945.24 | E22: =CYEX -> 112945.24
B23: RESERVES | C23: =C17 -> 31314 | D23: =D17 -> 31957.233 | E23: =E17 -> 0
B24: TOTAL | C24: =SUM(C22:C23) -> 133722 | D24: =SUM(D22:D23) -> 144902.47 | E24: =SUM(E22:E23) -> 112945.24
A28: UNIT ASSESSMENT - QUARTERLY
B29: MAINTENANCE ASSESSMENT | C29: 534 | D29: =ROUNDUP(D13/NUN/FREQ,0) -> 589 | E29: =E13/NUN/FREQ -> #REF!
B30: RESERVE ASSESSMENT | C30: 164 | D30: =ROUND(D17/NUN/FREQ,0) -> 166 | E30: =E17/NUN/FREQ -> 0
B31: TOTAL ASSESSMENT | C31: =SUM(C29:C30) -> 698 | D31: =SUM(D29:D30) -> 755 | E31: =SUM(E29:E30) -> #REF!
B32: 2018 - ROUNDED TO $164 TOTALS $698
B34: NUMBER OF UNITS | D34: 48
B35: PAYMENTS PER YEAR | D35: 4
E40: =ROUNDUP(E29,0)*NUN*FREQ-E13 -> #REF!
B62: =CELL("filename",DATE) -> #REF!

Sheet Schedule A
A1: =Summary!A1 -> 43830 | E1: SCHEDULE A
A3: =Summary!A3 -> ORCHID COVE CONDOMINIUM ASSN, INC.
A4: =Summary!A4 -> 2016 ESTIMATED EXPENSES AND APPROVED BUDGET
A5: =Summary!A5 -> PROPOSED BUDGET FOR THE PERIOD
A6: =Summary!A6 -> JANUARY 1, 2020 to DECEMBER 31, 2020
C8: =Summary!C10 -> 2019 | E8: =Summary!D10 -> 2020
C9: ESTIMATED | D9: APPROVED | E9: =Summary!D11 -> PROPOSED
A10: CURRENT EXPENSES | C10: EXPENSES | D10: BUDGET | E10: BUDGET
A12: 7010 | B12: WATER / SEWER | C12: =+WORKSHEET!E15 -> 1622.52 | D12: 1200 | E12: =+WORKSHEET!H15 -> 1600.1956
A13: 7020 | B13: BACKFLOWS/TEST & REPAIR | C13: =+WORKSHEET!E16 -> 3550.5 | D13: 3000 | E13: =+WORKSHEET!H16 -> 4000 | G13: does the fire sprinkler sytem get coded the same as the back flow? Shouldn't it be 7140?
A14: 7050 | B14: ELECTRIC | C14: =+WORKSHEET!E17 -> 4762.185 | D14: 2600 | E14: =+WORKSHEET!H17 -> 3500.0505 | G14: includes pool electric
A15: 7140 | B15: =WORKSHEET!B18 -> FIRE SPRINKLER ALARM / EXTINGUISHERS | C15: =+WORKSHEET!E18 -> 6484.5 | D15: 1000 | E15: =+WORKSHEET!H18 -> 1500
A16: 7150 | B16: INSURANCE | C16: =+WORKSHEET!E19 -> 18669.075 | D16: 19500 | E16: =+WORKSHEET!H19 -> 21500
A17: 7210 | B17: PEST CONTROL | C17: =+WORKSHEET!E20 -> 1350 | D17: 1500 | E17: =+WORKSHEET!H20 -> 1500 | G17: $300*6=1800
A18: 7225 | B18: PRESSURE CLEANING | C18: =+WORKSHEET!E21 -> 0 | D18: 6075 | E18: =+WORKSHEET!H21 -> 5000 | G18: this is for the driveways, sidewalks, building exteriors and windows. | L18: 1994+2700
A19: 7240 | B19: LANDSCAPING MAINTENANCE CONTRACT | C19: =+WORKSHEET!E22 -> 20175 | D19: 20275 | E19: =+WORKSHEET!H22 -> 22499.5 | G19: 2% increase (need to check this against email)
A20: 7245 | B20: LANDSCAPING / PLANTS - TREES - SOD | C20: =+WORKSHEET!E23 -> 0 | D20: 4000 | E20: =+WORKSHEET!H23 -> 8000
A21: 7255 | B21: MULCH | C21: =+WORKSHEET!E24 -> 0 | D21: 4500 | E21: =+WORKSHEET!H24 -> 4500
A22: 7270 | B22: TREE TRIMMING | C22: =+WORKSHEET!E25 -> 0 | D22: 2000 | E22: =+WORKSHEET!H25 -> 2000
A23: 7280 | B23: IRRIGATION MAINTENANCE | C23: =+WORKSHEET!E26 -> 1009.245 | D23: 1000 | E23: =+WORKSHEET!H26 -> 1000.245
A24: 7310 | B24: POOL MAINTENANCE CONTRACT | C24: =+WORKSHEET!E27 -> 3180 | D24: 3180 | E24: =+WORKSHEET!H27 -> 3180
A25: 7320 | B25: POOL ELECTRIC | C25: =+WORKSHEET!E28 -> 0 | D25: 2500 | E25: =+WORKSHEET!H28 -> 0 | G25: moved to 7010
A26: 7330 | B26: POOL SUPPLIES & REPAIR | C26: =+WORKSHEET!E29 -> 836.115 | D26: 1500 | E26: =+WORKSHEET!H29 -> 1000
A27: 7340 | B27: POOL FUEL | C27: =+WORKSHEET!E30 -> 4235.43 | D27: 4000 | E27: =+WORKSHEET!H30 -> 4200
A28: 7350 | B28: GENERAL MAINTENANCE/REPAIRS | C28: =+WORKSHEET!E31 -> 8151.45 | D28: 5800 | E28: =+WORKSHEET!H31 -> 6000
A29: 7395 | B29: ROOF REPAIRS | C29: =+WORKSHEET!E32 -> 4650 | D29: 6000 | E29: =+WORKSHEET!H32 -> 6000
A30: 7400 | B30: JANITORIAL SERVICES CONTRACT | C30: =+WORKSHEET!E33 -> 2287.5 | D30: 2580 | E30: =+WORKSHEET!H33 -> 2580 | G30: contract at $215*12
A31: 7460 | B31: LEGAL FEES/PROFESSIONAL | C31: =+WORKSHEET!E34 -> 0 | D31: 1200 | E31: =+WORKSHEET!H34 -> 3000 | G31: maybe this should be a special assessment to do the documents
A32: 7470 | B32: ACCOUNTING FEES (TAX PREP) | C32: =+WORKSHEET!E35 -> 375 | D32: 250 | E32: =+WORKSHEET!H35 -> 250
A33: 7480 | B33: MANAGEMENT FEES | C33: =+WORKSHEET!E36 -> 7200 | D33: 7805 | E33: =+WORKSHEET!H36 -> 7416 | G33: 3% increase
A34: 7490 | B34: OFFICE EXPENSES (POSTAGE - PRINTING - STORAGE) | C34: =+WORKSHEET!E37 -> 2263.755 | D34: 1000 | E34: =+WORKSHEET!H37 -> 2000
A35: 7495 | B35: BANK FEES & COUPON BOOKS | C35: =+WORKSHEET!E38 -> 38.625 | D35: 250 | E35: =+WORKSHEET!H38 -> 336 | G35: This is 48 units*$7 = $336
A36: 7500 | B36: LICENSES & PERMITS ( POOLS) | C36: =+WORKSHEET!E39 -> 187.5 | D36: 185 | E36: =+WORKSHEET!H39 -> 191.25 | G36: This is $66.25 for the annual report + pool permit of $125 = 191.25
A37: 7510 | B37: DIVISION FEES | C37: =+WORKSHEET!E40 -> 292.5 | D37: 195 | E37: =+WORKSHEET!H40 -> 192 | G37: DBPR fees for condo are $4 per unit*48 = 192
A38: 7999 | B38: BAD DEBT | C38: =+WORKSHEET!E41 -> 0 | D38: 0 | E38: =+WORKSHEET!H41 -> 0
B40: TOTAL EXPENSES | C40: =SUM(C12:C39) -> 91320.9 | D40: =SUM(D12:D39) -> 103095 | E40: =SUM(E12:E39) -> 112945.24

Sheet Reserves
A1: =Summary!A1 -> 43830 | L1: SCHEDULE B
A3: =Summary!A3 -> ORCHID COVE CONDOMINIUM ASSN, INC.
A4: =Summary!A5 -> PROPOSED BUDGET FOR THE PERIOD
A5: =Summary!A6 -> JANUARY 1, 2020 to DECEMBER 31, 2020
A6: DESIGNATED RESERVES
L7: PERCENT
L8: FUNDING
L9: 1
C10: 1 | D10: 2 | E10: 3 | F10: 4 | G10: 5 | H10: 5A | I10: 6 | J10: 7 | K10: 8 | L10: 9 | N10: 10 | O10: 11 | P10: 12 | U10: INFLATION | V10: 1.03
C11: ESTIMATED | D11: ESTIMATED | E11: ESTIMATED | F11: BEGINNING | G11: ASSESSMENTS | H11: TRANSFERS | I11: ESTIMATED | J11: ESTIMATED | K11: ADDITIONAL | L11: ANNUAL | N11: RESERVE | P11: UNDER
C12: LIFE | D12: REMAINING | E12: REPLACEMENT | F12: BALANCE | G12: COLLECTED | H12: BETWEEN | I12: EXPENDITURES | J12: BALANCE | K12: RESERVE | L12: RESERVE | N12: FULL FUNDED | O12: PERCENT | P12: FUNDED
C13: EXPECTANCY | D13: LIFE | E13: COST | F13: 43466 | G13: =Summary!C10 -> 2019 | H13: FUNDS | I13: =G13 -> 2019 | J13: =F13+365 -> 43831 | K13: REQUIREMENT | L13: REQUIRED | N13: AMOUNT | O13: FUNDED | P13: AMOUNT | R13: 2020 | S13: 2019 | T13: 2018 | U13: 2017
A14: ACCT# | B14: Reserve
A15: 3610 | B15: POOL | C15: 20 | D15: 7 | E15: =R15 -> 38245.445 | F15: 24303.04 | G15: =1069.2/8*12 -> 1603.8 | J15: =F15+G15+H15-I15 -> 25906.84 | K15: =E15-J15 -> 12338.605 | L15: =K15/D15*PF -> 1762.6579 | R15: =S15*INFPCT -> 38245.445 | S15: =+T15*INFPCT -> 37131.5 | T15: =+U15*INFPCT -> 36050 | U15: 35000
A16: 3630 | B16: ROOF | C16: 30 | D16: 13 | E16: =R16 -> 437090.8 | F16: 167425.21 | G16: =10806.4/8*12 -> 16209.6 | H16: =45000 -> 45000 | J16: =F16+G16+H16-I16 -> 228634.81 | K16: =E16-J16 -> 208455.99 | L16: =K16/D16*PF -> 16035.076 | R16: =S16*INFPCT -> 437090.8 | S16: =+T16*INFPCT -> 424360 | T16: =+U16*INFPCT -> 412000 | U16: 400000
A17: 3640 | B17: PAINTING | C17: 10 | D17: 7 | E17: =R17 -> 71027.255 | F17: 7567.04 | G17: =5116/8*12 -> 7674 | J17: =F17+G17+H17-I17 -> 15241.04 | K17: =E17-J17 -> 55786.215 | L17: =K17/D17*PF -> 7969.4593 | R17: =S17*INFPCT -> 71027.255 | S17: =+T17*INFPCT -> 68958.5 | T17: =+U17*INFPCT -> 66950 | U17: 65000
A18: 3650 | B18: PAVING | C18: 20 | D18: 7 | E18: =R18 -> 65563.62 | F18: 27658.56 | G18: =2999.2/8*12 -> 4498.8 | J18: =F18+G18+H18-I18 -> 32157.36 | K18: =E18-J18 -> 33406.26 | L18: =K18/D18*PF -> 4772.3229 | R18: =S18*INFPCT -> 65563.62 | S18: =+T18*INFPCT -> 63654 | T18: =+U18*INFPCT -> 61800 | U18: 60000
A19: 3730 | B19: GENERAL RSV | C19: 15 | D19: 13 | E19: =R19 -> 21854.54 | F19: 2532.96 | G19: =593.92/8*12 -> 890.88 | J19: =F19+G19+H19-I19 -> 3423.84 | K19: =E19-J19 -> 18430.7 | L19: =K19/D19*PF -> 1417.7462 | R19: =S19*INFPCT -> 21854.54 | S19: =+T19*INFPCT -> 21218 | T19: =+U19*INFPCT -> 20600 | U19: 20000
A20: 3770 | B20: PUMPS | C20: 15 | D20: 10 | E20: =R20+3029 -> 8492.635 | F20: 3492.93 | G20: 0 | H20: 5000 | J20: =F20+G20+H20-I20 -> 8492.93 | K20: =E20-J20 -> -0.295 | L20: =K20/D20*PF -> -0.0295 | R20: =S20*INFPCT -> 5463.635 | S20: =+T20*INFPCT -> 5304.5 | T20: =+U20*INFPCT -> 5150 | U20: 5000
B21: SUBTOTAL | E21: =SUM(E15:E20) -> 642274.3 | F21: =SUM(F15:F20) -> 232979.74 | G21: =SUM(G15:G20) -> 30877.08 | I21: =SUM(I15:I20) -> 0 | J21: =SUM(J15:J20) -> 313856.82 | K21: =SUM(K15:K20) -> 328417.48 | L21: =SUM(L15:L20) -> 31957.233 | N21: =SUM(N15:N18) -> 0 | P21: =SUM(P15:P18) -> 0 | R21: =SUM(R15:R20) -> 639245.3 | S21: =SUM(S15:S20) -> 620626.5 | T21: =SUM(T15:T20) -> 602550 | U21: =SUM(U15:U20) -> 585000
A22: 3607 | B22: UNALLOCATED RESERVE INTEREST | F22: 23997.26 | G22: =1403.2/8*12 -> 2104.8 | H22: -20000 | J22: =F22+G22+H22-I22 -> 6102.06 | N22: 132
B23: TOTAL | F23: =SUM(F21:F22) -> 256977 | G23: =SUM(G21:G22) -> 32981.88 | J23: =SUM(J21:J22) -> 319958.88
A25: Note 1: | B25: These reserves are computed using the straight line method.
A27: Note 2: | B27: Estimated Life Expectancy, Estimated Remaining Life, and Estimated Replacement Cost are based on information secured from contractors and on information
B28: obtained from experience gained from similar replacements, these figures may be adjusted each year using current available data. The accuracy of and items
B29: required should be supported by an independent Reserve Study.
A31: Note 3: | B31: The Annual Reserve Required (9) has been rounded to a whole number when divided by the number of units divided by twelve.

Sheet WORKSHEET
A1: =Summary!D10 -> 2020 | B1: WORKSHEET
A3: 1. PRINT A CURRENT GL (EXPENSES ONLY) OR USE YTD EXPENSE COLUMN ON THE FINANCIAL (INCOME/EXPENSE)
A4: 2. REVIEW GL ACCOUNTS - CORRECT CODING ERRORS
A5: 3. ENTER TOTAL # OF YTD MONTHS IN THE INDICATED BOX
A6: 4. ENTER TOTAL YEAR TO DATE EXPENSE IN COLUMN 3 FROM GL REPORT OR FINANCIAL
A7: 5. ENTER THE ESTIMATED PERCENT OF INCREASE IN COLUMN 6 (NO INCREASE ENTER 0)
A9: ENTER | B9: TOTAL # OF YTD MONTHS | C9: 8
C10: INPUT | D10: FORMULA | E10: FORMULA | F10: INPUT | G10: FORMULA | H10: FORMULA | I10: INPUT
C11: 3 | D11: 4 | E11: 5 | F11: 6 | G11: 7 | H11: 8 | I11: 9
A12: GL | B12: DESCRIPTION | C12: YTD | D12: MONTHLY | E12: EST EX | F12: % | G12: $ AMT | H12: PROJECTED | I12: APPROVED
A13: ACCT # | C13: EXPENSE | D13: AVG | E13: =I13 -> 2019 | F13: INCREASE | G13: INCREASE | H13: =A1 -> 2020 | I13: =Summary!C10 -> 2019
A15: 7010 | B15: WATER / SEWER | C15: 1081.68 | D15: =C15/YTDMN -> 135.21 | E15: =D15*12 -> 1622.52 | F15: 3 | G15: =F15/100*E15 -> 48.6756 | H15: =E15+G15-71 -> 1600.1956 | I15: 1200
A16: 7020 | B16: BACKFLOWS/TEST & REPAIR | C16: 2367 | D16: =C16/YTDMN -> 295.875 | E16: =D16*12 -> 3550.5 | G16: =F16/100*E16 -> 0 | H16: =3000+1000 -> 4000 | I16: 3000 | K16: does the fire sprinkler sytem get coded the same as the back flow? Shouldn't it be 7140?
A17: 7050 | B17: ELECTRIC | C17: 3174.79 | D17: =C17/YTDMN -> 396.84875 | E17: =D17*12 -> 4762.185 | F17: 3 | G17: =F17/100*E17 -> 142.86555 | H17: =E17+G17-1405 -> 3500.0505 | I17: 2600 | K17: includes pool electric
A18: 7140 | B18: FIRE SPRINKLER ALARM / EXTINGUISHERS | C18: 4323 | D18: =C18/YTDMN -> 540.375 | E18: =D18*12 -> 6484.5 | G18: =F18/100*E18 -> 0 | H18: =4500-3000 -> 1500 | I18: 1000
A19: 7150 | B19: INSURANCE | C19: 12446.05 | D19: =C19/YTDMN -> 1555.7562 | E19: =D19*12 -> 18669.075 | F19: 10 | G19: =F19/100*E19 -> 1866.9075 | H19: =21535-35 -> 21500 | I19: 19500
A20: 7210 | B20: PEST CONTROL | C20: 900 | D20: =C20/YTDMN -> 112.5 | E20: =D20*12 -> 1350 | G20: =F20/100*E20 -> 0 | H20: =1800-300 -> 1500 | I20: 1500 | K20: $300*6=1800
A21: 7225 | B21: PRESSURE CLEANING | C21: 0 | D21: =C21/YTDMN -> 0 | E21: =D21*12 -> 0 | G21: =F21/100*E21 -> 0 | H21: =5000 -> 5000 | I21: 6075 | K21: this is for the driveways, sidewalks, building exteriors and windows. | P21: 1994+2700
A22: 7240 | B22: LANDSCAPING MAINTENANCE CONTRACT | C22: 13450 | D22: =C22/YTDMN -> 1681.25 | E22: =D22*12 -> 20175 | F22: 2 | G22: =F22/100*E22 -> 403.5 | H22: =E22+G22+1921 -> 22499.5 | I22: 20275 | K22: 2% increase (need to check this against email)
A23: 7245 | B23: LANDSCAPING / PLANTS - TREES - SOD | D23: =C23/YTDMN -> 0 | E23: =D23*12 -> 0 | G23: =F23/100*E23 -> 0 | H23: =4000+4000 -> 8000 | I23: 4000
A24: 7255 | B24: MULCH | D24: =C24/YTDMN -> 0 | E24: =D24*12 -> 0 | G24: =F24/100*E24 -> 0 | H24: 4500 | I24: 4500
A25: 7270 | B25: TREE TRIMMING | D25: =C25/YTDMN -> 0 | E25: =D25*12 -> 0 | G25: moved to 7010 | H25: 2000 | I25: 2000
A26: 7280 | B26: IRRIGATION MAINTENANCE | C26: 672.83 | D26: =C26/YTDMN -> 84.10375 | E26: =D26*12 -> 1009.245 | G26: =F26/100*E26 -> 0 | H26: =E26+G26-9 -> 1000.245 | I26: 1000
A27: 7310 | B27: POOL MAINTENANCE CONTRACT | C27: 2120 | D27: =C27/YTDMN -> 265 | E27: =D27*12 -> 3180 | G27: =F27/100*E27 -> 0 | H27: =E27+G27 -> 3180 | I27: 3180 | K27: =SUM(265*12) -> 3180 | L27: contract @$265x12
A28: 7320 | B28: POOL ELECTRIC | D28: =C28/YTDMN -> 0 | E28: =D28*12 -> 0 | F28: 0 | G28: =F28/100*E28 -> 0 | H28: =E28+G28 -> 0 | I28: 2500 | K28: moved to 7010
A29: 7330 | B29: POOL SUPPLIES & REPAIR | C29: 557.41 | D29: =C29/YTDMN -> 69.67625 | E29: =D29*12 -> 836.115 | G29: =F29/100*E29 -> 0 | H29: 1000 | I29: 1500
A30: 7340 | B30: POOL FUEL | C30: 2823.62 | D30: =C30/YTDMN -> 352.9525 | E30: =D30*12 -> 4235.43 | G30: =F30/100*E30 -> 0 | H30: 4200 | I30: 4000
A31: 7350 | B31: GENERAL MAINTENANCE/REPAIRS | C31: =6934.3-1500 -> 5434.3 | D31: =C31/YTDMN -> 679.2875 | E31: =D31*12 -> 8151.45 | G31: =F31/100*E31 -> 0 | H31: 6000 | I31: 5800
A32: 7395 | B32: ROOF REPAIRS | C32: =1600+1500 -> 3100 | D32: =C32/YTDMN -> 387.5 | E32: =D32*12 -> 4650 | G32: =F32/100*E32 -> 0 | H32: =2000+4000 -> 6000 | I32: 6000
A33: 7400 | B33: JANITORIAL SERVICES CONTRACT | C33: 1525 | D33: =C33/YTDMN -> 190.625 | E33: =D33*12 -> 2287.5 | G33: 3% increase | H33: 2580 | I33: 2580 | K33: contract at $215*12
A34: 7460 | B34: LEGAL FEES/PROFESSIONAL | D34: =C34/YTDMN -> 0 | E34: =D34*12 -> 0 | G34: =F34/100*E34 -> 0 | H34: 3000 | I34: 1200 | K34: maybe this should be a special assessment to do the documents
A35: 7470 | B35: ACCOUNTING FEES (TAX PREP) | C35: 250 | D35: =C35/YTDMN -> 31.25 | E35: =D35*12 -> 375 | G35: =F35/100*E35 -> 0 | H35: 250 | I35: 250
A36: 7480 | B36: MANAGEMENT FEES | C36: 4800 | D36: =C36/YTDMN -> 600 | E36: =D36*12 -> 7200 | F36: 3 | G36: =F36/100*E36 -> 216 | H36: =E36+G36 -> 7416 | I36: 7805
A37: 7490 | B37: OFFICE EXPENSES (POSTAGE - PRINTING - STORAGE) | C37: 1509.17 | D37: =C37/YTDMN -> 188.64625 | E37: =D37*12 -> 2263.755 | G37: =F37/100*E37 -> 0 | H37: 2000 | I37: 1000
A38: 7495 | B38: BANK FEES & COUPON BOOKS | C38: 25.75 | D38: =C38/YTDMN -> 3.21875 | E38: =D38*12 -> 38.625 | G38: =F38/100*E38 -> 0 | H38: 336 | I38: 250 | K38: This is 48 units*$7 = $336
A39: 7500 | B39: LICENSES & PERMITS ( POOLS) | C39: 125 | D39: =C39/YTDMN -> 15.625 | E39: =D39*12 -> 187.5 | G39: =F39/100*E39 -> 0 | H39: 191.25 | I39: 185 | K39: This is $66.25 for the annual report + pool permit of $125 = 191.25
A40: 7510 | B40: DIVISION FEES | C40: 195 | D40: =C40/YTDMN -> 24.375 | E40: =D40*12 -> 292.5 | G40: =F40/100*E40 -> 0 | H40: 192 | I40: 195 | K40: DBPR fees for condo are $4 per unit*48 = 192
A41: 7999 | B41: BAD DEBT | D41: =C41/YTDMN -> 0 | E41: =D41*12 -> 0 | G41: =F41/100*E41 -> 0 | H41: =E41+G41 -> 0 | I41: 0
B44: TOTAL EXPENSES | C44: =SUM(C15:C42) -> 60880.6 | D44: =SUM(D14:D42) -> 7610.075 | E44: =SUM(E15:E42) -> 91320.9 | G44: =F44/100*E44 -> 0 | H44: =SUM(H15:H42) -> 112945.24 | I44: =SUM(I15:I42) -> 103095
E45: | | H45: |
...
